BEGIN:VCALENDAR
VERSION:2.0
PRODID:-//Dirt Farm Brewing - ECPv6.15.20//NONSGML v1.0//EN
CALSCALE:GREGORIAN
METHOD:PUBLISH
X-ORIGINAL-URL:https://dirtfarmbrewing.com
X-WR-CALDESC:Events for Dirt Farm Brewing
REFRESH-INTERVAL;VALUE=DURATION:PT1H
X-Robots-Tag:noindex
X-PUBLISHED-TTL:PT1H
BEGIN:VTIMEZONE
TZID:UTC
BEGIN:STANDARD
TZOFFSETFROM:+0000
TZOFFSETTO:+0000
TZNAME:UTC
DTSTART:20250101T000000
END:STANDARD
END:VTIMEZONE
BEGIN:VTIMEZONE
TZID:America/New_York
BEGIN:DAYLIGHT
TZOFFSETFROM:-0500
TZOFFSETTO:-0400
TZNAME:EDT
DTSTART:20250309T070000
END:DAYLIGHT
BEGIN:STANDARD
TZOFFSETFROM:-0400
TZOFFSETTO:-0500
TZNAME:EST
DTSTART:20251102T060000
END:STANDARD
BEGIN:DAYLIGHT
TZOFFSETFROM:-0500
TZOFFSETTO:-0400
TZNAME:EDT
DTSTART:20260308T070000
END:DAYLIGHT
BEGIN:STANDARD
TZOFFSETFROM:-0400
TZOFFSETTO:-0500
TZNAME:EST
DTSTART:20261101T060000
END:STANDARD
BEGIN:DAYLIGHT
TZOFFSETFROM:-0500
TZOFFSETTO:-0400
TZNAME:EDT
DTSTART:20270314T070000
END:DAYLIGHT
BEGIN:STANDARD
TZOFFSETFROM:-0400
TZOFFSETTO:-0500
TZNAME:EST
DTSTART:20271107T060000
END:STANDARD
END:VTIMEZONE
BEGIN:VEVENT
DTSTART;TZID=UTC:20260731T180000
DTEND;TZID=UTC:20260731T193000
DTSTAMP:20260419T150240
CREATED:20260204T200628Z
LAST-MODIFIED:20260204T200628Z
UID:10005724-1785520800-1785526200@dirtfarmbrewing.com
SUMMARY:Bluemont Ramble Jam Session
DESCRIPTION:Whether you’re playin’ or listenin’\, join us for a Bluemont Ramble Jam Session the final Friday of every other month!\nGrab a pint and join the music! Join us for a Jam Session on the last Friday of every other month! This is an open\, laid-back night where local musicians and music lovers come together to share songs\, sounds\, and good beer. All skill levels and styles are welcome. \nThe first Jam Session will be on Friday\, March 27 from 6-7:30pm!\nJam Session Dates: \nFriday\, March 27\nFriday\, May 29\nFriday\, July 31\nFriday\, September 25\nFriday\, November 27 \nWhether you’re coming out from Washington D.C.\, Alexandria\, Arlington\, or Baltimore\, or you’re just cruising over from Round Hill\, Purcellville\, Clarke County\, or Winchester\, we’re always glad to welcome friendly faces here in Bluemont – near or far. Our community stretches across the region\, and nothing makes us happier than sharing good beer\, great food\, and even better company with all of you right here in Loudoun County\, Virginia!
URL:https://dirtfarmbrewing.com/event/bluemont-ramble-jam-session/2026-07-31/
LOCATION:Dirt Farm Brewing\, Bluemont\, VA\, United States
ATTACH;FMTTYPE=image/jpeg:https://dirtfarmbrewing.com/wp-content/uploads/2020/08/Photo-May-13-10-37-45-AM-scaled-e1652460020723.jpg
END:VEVENT
BEGIN:VEVENT
DTSTART;TZID=UTC:20260808T190000
DTEND;TZID=UTC:20260808T210000
DTSTAMP:20260419T150240
CREATED:20230719T171806Z
LAST-MODIFIED:20260211T220728Z
UID:10002317-1786215600-1786222800@dirtfarmbrewing.com
SUMMARY:Blues\, Brews & BBQ feat. The Nighthawks
DESCRIPTION:Blues\, Brews & BBQ feat. The Nighthawks at Dirt Farm Brewing!\nJoin us for an evening filled with Blues\, Brews & BBQ at Dirt Farm Brewing! The Nighthawks will be bringing the Blues\, we’ve got the farm fresh beer\, and The Kitchen Workshop will be firing up the smoker and bringing the BBQ! \nFrom 7:00 p.m. – 9:00 p.m. enjoy live music by The Nighthawks! These guys have been playing music for years and if you’re local you’ll know they are legends for blues and roots rock! “The Nighthawks enter the new year with two new members: Zach Sweeney on guitar and Sol Roots on bass. Drummer Mark Stutso’s still on board with his singing and songwriting that make him an audience favorite. And founder\, lead singer and harpmaster Mark Wenner is still at the helm. With some 30 recordings and local and international awards to their credit\, The Nighthawks are still churning out new material while drawing on more than four decades’ worth of signature tunes for their legendary live shows.” Get ready to rock\, my friends\, because once these guys get started you’re going to be movin’ and groovin’ your way through the night! \nThe taps will be stocked with some of your favorite Dirt Farm Beer\, including numerous beers from our Homegrown Series. These beers utilize produce that we grow either right here on our property or across the street at our family farm\, Great Country Farms! These Homegrown Series ales pair perfectly with sittin’ back\, kicking your boots off and enjoying some BBQ and Blues! See what’s currently on tap\, HERE! \nThe Truck will be loading up their menu with the most delicious BBQ specials! No special tickets are required for your food this year…you’re going to want to grab a couple of items and share with your crew! \nGeneral Admission: $20 per person\n \n\n\n \n\n\nPowered by SimpleTix\n\n\n\nTicket Holders are welcome to come up early\, gates open at 6:00 p.m. Live music will be set up on the stage and seating will be available on our three tiered large patio or in our spacious lawn area. Blankets and chairs are welcome\, but coolers/outside alcohol/outside food are strictly prohibited. Free general admission for children 10 and younger. This event is rain or shine. \nOur taproom will be closing early for this private event\, so if you want to stick around you must purchase a ticket! Taproom hours of operation are 11:00 a.m. – 6:00 p.m. Last call at 5:30 p.m. Gates open for the event at 6:00 p.m. \nFAQs:\nQ: What if I buy a ticket and change my mind? Or can’t go?\nA. We need to ensure that\, at the least\, Dirt Farm is compensated for the band\, time\, and event extras. There will be no refunds available. Why not pass the ticket to a friend?\nQ: Do I have to bring my printed ticket to the event?\nA: Nope! We’ve gone digital and can easily check you in with the name you used to purchase your ticket!\nQ: Do I have to have a ticket to come to the brewery for this event?\nA: Yes\, this is a private\, ticketed event. All guests are required to have purchased a ticket.\nQ: What if I want to bring my child?\nA: No worries\, children are welcome as long as they remain seated with your group at all times.\nQ: What if there is rain in the forecast?\nA: If there is rain in the forecast\, grab your poncho and let’s keep the party going! This is a rain or shine event. \nMake a trip of it! Stay at one of our local cottages by checking out the ‘STAY’ tab on our website or visiting https://experiencebluemont.com/\n  \nWhether you’re coming out from Washington D.C.\, Alexandria\, Arlington\, or Baltimore\, or you’re just cruising over from Round Hill\, Purcellville\, Clarke County\, or Winchester\, we’re always glad to welcome friendly faces here in Bluemont – near or far. Our community stretches across the region\, and nothing makes us happier than sharing good beer\, great food\, and even better company with all of you right here in Loudoun County\, Virginia!
URL:https://dirtfarmbrewing.com/event/blues-brews-bbq-the-nighthawks-2025/
LOCATION:Dirt Farm Brewing\, Bluemont\, VA\, United States
CATEGORIES:Beer Event,Events,Food Event,Local Event,Music Event
ATTACH;FMTTYPE=image/png:https://dirtfarmbrewing.com/wp-content/uploads/2023/07/Untitled-2-9-e1718210826353.png
END:VEVENT
BEGIN:VEVENT
DTSTART;TZID=UTC:20260830T103000
DTEND;TZID=UTC:20260830T123000
DTSTAMP:20260419T150240
CREATED:20250411T154138Z
LAST-MODIFIED:20260320T210303Z
UID:10005750-1788085800-1788093000@dirtfarmbrewing.com
SUMMARY:Hiking Meet-Up on The Trails at Dirt Farm
DESCRIPTION:Come on out on the last Saturday of every month for a Hiking Meet-Up! This is a great way to meet fellow hike enthusiasts in the area!\nMeet under the Pavilion at Dirt Farm Brewing and take-off for your hike at 10:30am. The Dirt Farm Trail is a 3.5 mile wooded loop right here on the farm. Whether you are a beginner or an experienced hiker this trail is a great fit! Kids and dogs are welcome! \nThis hike takes an average of 1.5 hours and the incline at the end is a butt kicker! By the time you finish your hike\, the Taproom will be open for business! After the hike we encourage everyone to hang out and have a beer and some bites from The Truck and The Kitchen to refuel! \nPlease note: this is a self-guided hike on our marked trail. Staff members will not be present during the hike. \nWhether you’re coming out from Washington D.C.\, Alexandria\, Arlington\, or Baltimore\, or you’re just cruising over from Round Hill\, Purcellville\, Clarke County\, or Winchester\, we’re always glad to welcome friendly faces here in Bluemont – near or far. Our community stretches across the region\, and nothing makes us happier than sharing good beer\, great food\, and even better company with all of you right here in Loudoun County\, Virginia! \nLearn more about The Trails at Dirt Farm Brewing by clicking\, HERE! \nCheck out The ‘Dirt Farm Brewing Loop’ on alltrails by clicking\, HERE!
URL:https://dirtfarmbrewing.com/event/dirt-dont-hurt-hike-club/2026-08-30/
LOCATION:Dirt Farm Brewing\, Bluemont\, VA\, United States
ATTACH;FMTTYPE=image/jpeg:https://dirtfarmbrewing.com/wp-content/uploads/2025/04/Photo-Apr-27-2025-10-19-22-AM-scaled-e1774039703449.jpg
END:VEVENT
BEGIN:VEVENT
DTSTART;TZID=UTC:20260925T180000
DTEND;TZID=UTC:20260925T193000
DTSTAMP:20260419T150240
CREATED:20260204T200628Z
LAST-MODIFIED:20260204T200628Z
UID:10005725-1790359200-1790364600@dirtfarmbrewing.com
SUMMARY:Bluemont Ramble Jam Session
DESCRIPTION:Whether you’re playin’ or listenin’\, join us for a Bluemont Ramble Jam Session the final Friday of every other month!\nGrab a pint and join the music! Join us for a Jam Session on the last Friday of every other month! This is an open\, laid-back night where local musicians and music lovers come together to share songs\, sounds\, and good beer. All skill levels and styles are welcome. \nThe first Jam Session will be on Friday\, March 27 from 6-7:30pm!\nJam Session Dates: \nFriday\, March 27\nFriday\, May 29\nFriday\, July 31\nFriday\, September 25\nFriday\, November 27 \nWhether you’re coming out from Washington D.C.\, Alexandria\, Arlington\, or Baltimore\, or you’re just cruising over from Round Hill\, Purcellville\, Clarke County\, or Winchester\, we’re always glad to welcome friendly faces here in Bluemont – near or far. Our community stretches across the region\, and nothing makes us happier than sharing good beer\, great food\, and even better company with all of you right here in Loudoun County\, Virginia!
URL:https://dirtfarmbrewing.com/event/bluemont-ramble-jam-session/2026-09-25/
LOCATION:Dirt Farm Brewing\, Bluemont\, VA\, United States
ATTACH;FMTTYPE=image/jpeg:https://dirtfarmbrewing.com/wp-content/uploads/2020/08/Photo-May-13-10-37-45-AM-scaled-e1652460020723.jpg
END:VEVENT
BEGIN:VEVENT
DTSTART;TZID=UTC:20260926T103000
DTEND;TZID=UTC:20260926T123000
DTSTAMP:20260419T150240
CREATED:20250411T154138Z
LAST-MODIFIED:20260320T210303Z
UID:10005751-1790418600-1790425800@dirtfarmbrewing.com
SUMMARY:Hiking Meet-Up on The Trails at Dirt Farm
DESCRIPTION:Come on out on the last Saturday of every month for a Hiking Meet-Up! This is a great way to meet fellow hike enthusiasts in the area!\nMeet under the Pavilion at Dirt Farm Brewing and take-off for your hike at 10:30am. The Dirt Farm Trail is a 3.5 mile wooded loop right here on the farm. Whether you are a beginner or an experienced hiker this trail is a great fit! Kids and dogs are welcome! \nThis hike takes an average of 1.5 hours and the incline at the end is a butt kicker! By the time you finish your hike\, the Taproom will be open for business! After the hike we encourage everyone to hang out and have a beer and some bites from The Truck and The Kitchen to refuel! \nPlease note: this is a self-guided hike on our marked trail. Staff members will not be present during the hike. \nWhether you’re coming out from Washington D.C.\, Alexandria\, Arlington\, or Baltimore\, or you’re just cruising over from Round Hill\, Purcellville\, Clarke County\, or Winchester\, we’re always glad to welcome friendly faces here in Bluemont – near or far. Our community stretches across the region\, and nothing makes us happier than sharing good beer\, great food\, and even better company with all of you right here in Loudoun County\, Virginia! \nLearn more about The Trails at Dirt Farm Brewing by clicking\, HERE! \nCheck out The ‘Dirt Farm Brewing Loop’ on alltrails by clicking\, HERE!
URL:https://dirtfarmbrewing.com/event/dirt-dont-hurt-hike-club/2026-09-26/
LOCATION:Dirt Farm Brewing\, Bluemont\, VA\, United States
ATTACH;FMTTYPE=image/jpeg:https://dirtfarmbrewing.com/wp-content/uploads/2025/04/Photo-Apr-27-2025-10-19-22-AM-scaled-e1774039703449.jpg
END:VEVENT
BEGIN:VEVENT
DTSTART;TZID=UTC:20261031T103000
DTEND;TZID=UTC:20261031T123000
DTSTAMP:20260419T150240
CREATED:20250411T154138Z
LAST-MODIFIED:20260320T210303Z
UID:10005752-1793442600-1793449800@dirtfarmbrewing.com
SUMMARY:Hiking Meet-Up on The Trails at Dirt Farm
DESCRIPTION:Come on out on the last Saturday of every month for a Hiking Meet-Up! This is a great way to meet fellow hike enthusiasts in the area!\nMeet under the Pavilion at Dirt Farm Brewing and take-off for your hike at 10:30am. The Dirt Farm Trail is a 3.5 mile wooded loop right here on the farm. Whether you are a beginner or an experienced hiker this trail is a great fit! Kids and dogs are welcome! \nThis hike takes an average of 1.5 hours and the incline at the end is a butt kicker! By the time you finish your hike\, the Taproom will be open for business! After the hike we encourage everyone to hang out and have a beer and some bites from The Truck and The Kitchen to refuel! \nPlease note: this is a self-guided hike on our marked trail. Staff members will not be present during the hike. \nWhether you’re coming out from Washington D.C.\, Alexandria\, Arlington\, or Baltimore\, or you’re just cruising over from Round Hill\, Purcellville\, Clarke County\, or Winchester\, we’re always glad to welcome friendly faces here in Bluemont – near or far. Our community stretches across the region\, and nothing makes us happier than sharing good beer\, great food\, and even better company with all of you right here in Loudoun County\, Virginia! \nLearn more about The Trails at Dirt Farm Brewing by clicking\, HERE! \nCheck out The ‘Dirt Farm Brewing Loop’ on alltrails by clicking\, HERE!
URL:https://dirtfarmbrewing.com/event/dirt-dont-hurt-hike-club/2026-10-31/
LOCATION:Dirt Farm Brewing\, Bluemont\, VA\, United States
ATTACH;FMTTYPE=image/jpeg:https://dirtfarmbrewing.com/wp-content/uploads/2025/04/Photo-Apr-27-2025-10-19-22-AM-scaled-e1774039703449.jpg
END:VEVENT
BEGIN:VEVENT
DTSTART;TZID=America/New_York:20261125T090000
DTEND;TZID=America/New_York:20261125T170000
DTSTAMP:20260419T150240
CREATED:20191105T122453Z
LAST-MODIFIED:20251210T201934Z
UID:10000278-1795597200-1795626000@dirtfarmbrewing.com
SUMMARY:Eighth Annual Pre-Turkey Hill Climb
DESCRIPTION:Join us for our Eighth Annual Pre-Turkey Hill Climb at Dirt Farm Brewing!\n  \nOn your mark\, get set\, gobble! \nBefore a day of indulgence\, grab the family to climb our hill and celebrate at our Seventh Annual Pre-Turkey Hill Climb! Guests will park at the top then hike down and ascend back up the driveway to our wooded loop at the top of the mountain…as many times as you’d like until 11:00 a.m. Please\, no bikes. The driveway will close to walkers at 11:00 a.m. \nThe Trails will also be open for guests to hike\, stroll\, run and enjoy all day long from 9am ’till 5pm! Enjoy this 3.5 mile wooded loop that will have you enjoying the many views of our families property! With a 400ft elevation change you’re going to be ready for that beer and some bites by the time you finish! \nThere will be beer-mosas\, Great Country Farms apple cider donuts\, and grub from The Truck at the top to refuel after your workout. Now you won’t feel guilty for having an extra helping of mashed potatoes and gravy! The Taps and The Truck open at 10:00 a.m. See our current tap list\, HERE! \nDon’t forget to purchase an event tee shirt while you’re shopping in the taproom! \nWe have primarily outdoor seating\, so be sure to dress for the outdoors and bring a blanket and beanie to keep toasty warm! \nCome for the climb\, but stay the day\, Happy Hour starts at 3:00 p.m. and taps are open ’till 4:45pm…it’s a perfect way to gather with the ones you love and keep the family entertained while they’re in town! \nClimb\, Beer\, Turkey\, Nap! \nLike the sound of our Pre-Turkey Hill Climb? Check out other fun\, seasonal events in Bluemont\, Va at our family businesses – Great Country Farms\, Henway Hard Cider and Bluemont Vineyard\, HERE! \nWhether you’re coming out from Washington D.C.\, Alexandria\, Arlington\, or Baltimore\, or you’re just cruising over from Round Hill\, Purcellville\, Clarke County\, or Winchester\, we’re always glad to welcome friendly faces here in Bluemont – near or far. Our community stretches across the region\, and nothing makes us happier than sharing good beer\, great food\, and even better company with all of you right here in Loudoun County\, Virginia!
URL:https://dirtfarmbrewing.com/event/dirt-farm-pre-turkey-hill-climb-2026/
LOCATION:Dirt Farm Brewing\, Bluemont\, VA\, United States
CATEGORIES:Beer Event,Events,Food Event,Local Event,Music Event
ATTACH;FMTTYPE=image/jpeg:https://dirtfarmbrewing.com/wp-content/uploads/2019/11/Photo-Nov-24-9-38-56-AM-scaled-e1665600019161.jpg
END:VEVENT
BEGIN:VEVENT
DTSTART;TZID=UTC:20261127T180000
DTEND;TZID=UTC:20261127T193000
DTSTAMP:20260419T150240
CREATED:20260204T200628Z
LAST-MODIFIED:20260204T200628Z
UID:10005726-1795802400-1795807800@dirtfarmbrewing.com
SUMMARY:Bluemont Ramble Jam Session
DESCRIPTION:Whether you’re playin’ or listenin’\, join us for a Bluemont Ramble Jam Session the final Friday of every other month!\nGrab a pint and join the music! Join us for a Jam Session on the last Friday of every other month! This is an open\, laid-back night where local musicians and music lovers come together to share songs\, sounds\, and good beer. All skill levels and styles are welcome. \nThe first Jam Session will be on Friday\, March 27 from 6-7:30pm!\nJam Session Dates: \nFriday\, March 27\nFriday\, May 29\nFriday\, July 31\nFriday\, September 25\nFriday\, November 27 \nWhether you’re coming out from Washington D.C.\, Alexandria\, Arlington\, or Baltimore\, or you’re just cruising over from Round Hill\, Purcellville\, Clarke County\, or Winchester\, we’re always glad to welcome friendly faces here in Bluemont – near or far. Our community stretches across the region\, and nothing makes us happier than sharing good beer\, great food\, and even better company with all of you right here in Loudoun County\, Virginia!
URL:https://dirtfarmbrewing.com/event/bluemont-ramble-jam-session/2026-11-27/
LOCATION:Dirt Farm Brewing\, Bluemont\, VA\, United States
ATTACH;FMTTYPE=image/jpeg:https://dirtfarmbrewing.com/wp-content/uploads/2020/08/Photo-May-13-10-37-45-AM-scaled-e1652460020723.jpg
END:VEVENT
BEGIN:VEVENT
DTSTART;TZID=UTC:20261128T103000
DTEND;TZID=UTC:20261128T123000
DTSTAMP:20260419T150240
CREATED:20250411T154138Z
LAST-MODIFIED:20260320T210303Z
UID:10005753-1795861800-1795869000@dirtfarmbrewing.com
SUMMARY:Hiking Meet-Up on The Trails at Dirt Farm
DESCRIPTION:Come on out on the last Saturday of every month for a Hiking Meet-Up! This is a great way to meet fellow hike enthusiasts in the area!\nMeet under the Pavilion at Dirt Farm Brewing and take-off for your hike at 10:30am. The Dirt Farm Trail is a 3.5 mile wooded loop right here on the farm. Whether you are a beginner or an experienced hiker this trail is a great fit! Kids and dogs are welcome! \nThis hike takes an average of 1.5 hours and the incline at the end is a butt kicker! By the time you finish your hike\, the Taproom will be open for business! After the hike we encourage everyone to hang out and have a beer and some bites from The Truck and The Kitchen to refuel! \nPlease note: this is a self-guided hike on our marked trail. Staff members will not be present during the hike. \nWhether you’re coming out from Washington D.C.\, Alexandria\, Arlington\, or Baltimore\, or you’re just cruising over from Round Hill\, Purcellville\, Clarke County\, or Winchester\, we’re always glad to welcome friendly faces here in Bluemont – near or far. Our community stretches across the region\, and nothing makes us happier than sharing good beer\, great food\, and even better company with all of you right here in Loudoun County\, Virginia! \nLearn more about The Trails at Dirt Farm Brewing by clicking\, HERE! \nCheck out The ‘Dirt Farm Brewing Loop’ on alltrails by clicking\, HERE!
URL:https://dirtfarmbrewing.com/event/dirt-dont-hurt-hike-club/2026-11-28/
LOCATION:Dirt Farm Brewing\, Bluemont\, VA\, United States
ATTACH;FMTTYPE=image/jpeg:https://dirtfarmbrewing.com/wp-content/uploads/2025/04/Photo-Apr-27-2025-10-19-22-AM-scaled-e1774039703449.jpg
END:VEVENT
BEGIN:VEVENT
DTSTART;TZID=America/New_York:20261129T110000
DTEND;TZID=America/New_York:20261129T160000
DTSTAMP:20260419T150240
CREATED:20191101T170018Z
LAST-MODIFIED:20251202T020303Z
UID:10000277-1795950000-1795968000@dirtfarmbrewing.com
SUMMARY:Eighth Annual Dirt Farm Christmas Market - November 29\, 2026
DESCRIPTION:Kick off the holiday season at our Seventh Annual Dirt Farm Christmas Market!\nSip on Dirt Farm beer and signature holiday craft beverages while you shop unique\, handmade items from a curated selection of local artisans and vendors at our Annual Christmas Market. You are sure to find special gifts for your friends and loved ones\, and maybe even take home something for yourself! Yule be sorry if you miss it! \nPlease keep in mind that this is an outdoor event. We recommend bundling up with warm clothing and a blanket or two. Remember folks\, no bad weather\, just bad gear! \nIt’s the most wonderful time for a beer! \nVendor List Coming Soon… \nInterested in becoming a vendor? Send an email over to meredith@dirtfarmbrewing.com \nSee what other fun events we have happening at Dirt Farm Brewing\, Here!  \nInterested to find other fun events in Bluemont\, Va?! CLICK HERE to see upcoming events at Bluemont Vineyard\, Henway Hard Cider Co.\, and Great Country Farms! \nWhether you’re coming out from Washington D.C.\, Alexandria\, Arlington\, or Baltimore\, or you’re just cruising over from Round Hill\, Purcellville\, Clarke County\, or Winchester\, we’re always glad to welcome friendly faces here in Bluemont – near or far. Our community stretches across the region\, and nothing makes us happier than sharing good beer\, great food\, and even better company with all of you right here in Loudoun County\, Virginia!
URL:https://dirtfarmbrewing.com/event/annual-christmas-market-november-2025/
LOCATION:Dirt Farm Brewing\, Bluemont\, VA\, United States
CATEGORIES:Beer Event,Events,Food Event,Local Event
ATTACH;FMTTYPE=image/jpeg:https://dirtfarmbrewing.com/wp-content/uploads/2019/11/christmas_market.jpg
END:VEVENT
BEGIN:VEVENT
DTSTART;TZID=UTC:20261224T120000
DTEND;TZID=UTC:20261224T150000
DTSTAMP:20260419T150240
CREATED:20211022T173118Z
LAST-MODIFIED:20260109T143027Z
UID:10000394-1798113600-1798124400@dirtfarmbrewing.com
SUMMARY:Christmas Eve Hike\, Sip and Shop at Dirt Farm Brewing
DESCRIPTION:Join us on the mountain for some Christmas cheer and farm fresh craft beer this Christmas Eve!\nBefore a day (or who are we kidding\, A WEEK!) of celebrations we invite you to join us at Dirt Farm Brewing to get your heart pumping! The Dirt Farm Trail will be open from 10:30am-1pm for guests to get outside\, get some fresh air and hike. The Trails are the perfect activity for you to enjoy with your friends and family! Once you’re done\, you can leave the cooking to us and enjoy lunch from The Taproom! \nGather around our outdoor fireplace to keep warm\, take in the fresh air from our large patio and spacious lawn area while bundling up with your loved ones or cozy up in our intimate taproom to celebrate the holidays! \nMake sure to pick up those last minute gifts and some beer to enjoy around the dinner table this holiday season. Check out what’s currently on tap\, HERE! \nWhether you’re coming out from Washington D.C.\, Alexandria\, Arlington\, or Baltimore\, or you’re just cruising over from Round Hill\, Purcellville\, Clarke County\, or Winchester\, we’re always glad to welcome friendly faces here in Bluemont—near or far. Our community stretches across the region\, and nothing makes us happier than sharing good beer\, great food\, and even better company with all of you right here in Loudoun County\, Virginia!\n \nCelebrate Christmas Eve in Bluemont\, Virginia! Learn more ways to experience our quaint little town\, here!
URL:https://dirtfarmbrewing.com/event/christmas-eve-dirt-farm-december-24-2025/
LOCATION:Dirt Farm Brewing\, Bluemont\, VA\, United States
CATEGORIES:Beer Event,Events,Food Event,Local Event
ATTACH;FMTTYPE=image/jpeg:https://dirtfarmbrewing.com/wp-content/uploads/2021/10/79538955_1501783559973266_2026244258901524480_n-e1667418402817.jpg
END:VEVENT
BEGIN:VEVENT
DTSTART;VALUE=DATE:20261225
DTEND;VALUE=DATE:20261226
DTSTAMP:20260419T150240
CREATED:20221102T194131Z
LAST-MODIFIED:20260109T142842Z
UID:10000598-1798156800-1798243199@dirtfarmbrewing.com
SUMMARY:CLOSED Christmas Day - December 25\, 2026 - Happy Holidays!
DESCRIPTION:CLOSED Christmas Day\n  \nThe Taproom will be CLOSED on Friday\, December 25\, to enjoy a peaceful day with our loved ones. \nWe will be back in the taproom on Saturday\, December 26 from 11-7pm if you’d like to gather with us! You can find our current beer menu\, here! \nA very Merry Christmas to you! \n  \n \n  \nExperience Bluemont this holiday season! Book a cottage or visit us at one of our family businesses – learn more here!
URL:https://dirtfarmbrewing.com/event/closed-christmas-day-december-2023/
LOCATION:Dirt Farm Brewing\, Bluemont\, VA\, United States
ATTACH;FMTTYPE=image/jpeg:https://dirtfarmbrewing.com/wp-content/uploads/2025/12/801E26FD-DDC0-4C05-81D1-4113D719572F-scaled-e1765119842194.jpeg
END:VEVENT
BEGIN:VEVENT
DTSTART;TZID=UTC:20261231T090000
DTEND;TZID=UTC:20261231T140000
DTSTAMP:20260419T150240
CREATED:20241121T213910Z
LAST-MODIFIED:20260109T142718Z
UID:10004483-1798707600-1798725600@dirtfarmbrewing.com
SUMMARY:New Years Eve Hike + End of Year Beer Sale
DESCRIPTION:Come take a New Years Eve Hike with us!\nKick off New Years Eve with a hike! Before an evening of celebrations we invite you to join us at Dirt Farm Brewing to get your heart pumping! The Trails will be open from 9am-1pm for guests to get outside\, get some fresh air and hike. \nThe Taproom will be open so cozy up in a corner of the Tasting Room or get toasty by the fireplace outside as you grab a pint and some grub from The Kitchen! The Kitchen will be open from 10-1:30pm with some lunch specials for you to enjoy\, and the Taproom will be open until 2pm! See what’s currently on tap\, HERE! \nWe can hardly believe it’s almost 2027…Ring in the new year with 27% off all beer to-go! \nWhether you’re coming out from Washington D.C.\, Alexandria\, Arlington\, or Baltimore\, or you’re just cruising over from Round Hill\, Purcellville\, Clarke County\, or Winchester\, we’re always glad to welcome friendly faces here in Bluemont – near or far. Our community stretches across the region\, and nothing makes us happier than sharing good beer\, great food\, and even better company with all of you right here in Loudoun County\, Virginia!
URL:https://dirtfarmbrewing.com/event/new-years-eve-hike-december-31-2024/
LOCATION:Dirt Farm Brewing\, Bluemont\, VA\, United States
ATTACH;FMTTYPE=image/jpeg:https://dirtfarmbrewing.com/wp-content/uploads/2024/05/Photo-May-30-2024-3-18-56-PM-1-scaled-e1717177500613.jpg
END:VEVENT
BEGIN:VEVENT
DTSTART;VALUE=DATE:20270101
DTEND;VALUE=DATE:20270102
DTSTAMP:20260419T150240
CREATED:20251119T170044Z
LAST-MODIFIED:20260109T142618Z
UID:10005575-1798761600-1798847999@dirtfarmbrewing.com
SUMMARY:Taproom CLOSED New Years Day
DESCRIPTION:The Taproom will be CLOSED on January 1\, 2027! \nHappy New Years\, friends!
URL:https://dirtfarmbrewing.com/event/taproom-closed-new-years-day/
LOCATION:Dirt Farm Brewing\, Bluemont\, VA\, United States
ATTACH;FMTTYPE=image/jpeg:https://dirtfarmbrewing.com/wp-content/uploads/2020/02/2I6A4849-scaled-1-e1675963595758.jpg
END:VEVENT
END:VCALENDAR